BEGIN:VCALENDAR
VERSION:2.0
PRODID:-//Hospiz Oederan - ECPv6.15.20//NONSGML v1.0//EN
CALSCALE:GREGORIAN
METHOD:PUBLISH
X-ORIGINAL-URL:https://www.hospiz-oederan.de
X-WR-CALDESC:Veranstaltungen für Hospiz Oederan
REFRESH-INTERVAL;VALUE=DURATION:PT1H
X-Robots-Tag:noindex
X-PUBLISHED-TTL:PT1H
BEGIN:VTIMEZONE
TZID:Europe/Berlin
BEGIN:DAYLIGHT
TZOFFSETFROM:+0100
TZOFFSETTO:+0200
TZNAME:CEST
DTSTART:20250330T010000
END:DAYLIGHT
BEGIN:STANDARD
TZOFFSETFROM:+0200
TZOFFSETTO:+0100
TZNAME:CET
DTSTART:20251026T010000
END:STANDARD
BEGIN:DAYLIGHT
TZOFFSETFROM:+0100
TZOFFSETTO:+0200
TZNAME:CEST
DTSTART:20260329T010000
END:DAYLIGHT
BEGIN:STANDARD
TZOFFSETFROM:+0200
TZOFFSETTO:+0100
TZNAME:CET
DTSTART:20261025T010000
END:STANDARD
BEGIN:DAYLIGHT
TZOFFSETFROM:+0100
TZOFFSETTO:+0200
TZNAME:CEST
DTSTART:20270328T010000
END:DAYLIGHT
BEGIN:STANDARD
TZOFFSETFROM:+0200
TZOFFSETTO:+0100
TZNAME:CET
DTSTART:20271031T010000
END:STANDARD
END:VTIMEZONE
BEGIN:VEVENT
DTSTART;TZID=Europe/Berlin:20261007T090000
DTEND;TZID=Europe/Berlin:20261007T120000
DTSTAMP:20260423T230049
CREATED:20251118T194023Z
LAST-MODIFIED:20260206T133808Z
UID:5812-1791363600-1791374400@www.hospiz-oederan.de
SUMMARY:Vorstandssitzung
DESCRIPTION:Teilnahme nur für Vorstandsmitglieder und eingeladene Personen
URL:https://www.hospiz-oederan.de/event/vortandssitzung/
LOCATION:Im Rosenzimmer des stationären Hospizes\, Richard-Wagner-Straße 1\, Oederan\, Sachsen\, 09569\, Germany
END:VEVENT
BEGIN:VEVENT
DTSTART;TZID=Europe/Berlin:20261008T153000
DTEND;TZID=Europe/Berlin:20261008T170000
DTSTAMP:20260423T230049
CREATED:20251201T160041Z
LAST-MODIFIED:20251201T160041Z
UID:5911-1791473400-1791478800@www.hospiz-oederan.de
SUMMARY:Ehrenamtstreff
DESCRIPTION:für ehrenamtliche Mitarbeiter des Ambulanten Hospizdienstes \n(Thema: Vorbereitung Weihnachtsmarkt)
URL:https://www.hospiz-oederan.de/event/ehrenamtstreff-6/
LOCATION:Im Rosenzimmer des stationären Hospizes\, Richard-Wagner-Straße 1\, Oederan\, Sachsen\, 09569\, Germany
END:VEVENT
BEGIN:VEVENT
DTSTART;TZID=Europe/Berlin:20261010T110000
DTEND;TZID=Europe/Berlin:20261010T160000
DTSTAMP:20260423T230049
CREATED:20251201T160201Z
LAST-MODIFIED:20251201T160201Z
UID:5913-1791630000-1791648000@www.hospiz-oederan.de
SUMMARY:Welthospiztag
DESCRIPTION:
URL:https://www.hospiz-oederan.de/event/welthospiztag-2/
LOCATION:Stationäres Hospiz Oederan\, Richard-Wagner-Straße 1\, Oederan\, 09569\, Germany
END:VEVENT
BEGIN:VEVENT
DTSTART;TZID=Europe/Berlin:20261029T170000
DTEND;TZID=Europe/Berlin:20261029T170000
DTSTAMP:20260423T230049
CREATED:20260331T055109Z
LAST-MODIFIED:20260331T055109Z
UID:6143-1793293200-1793293200@www.hospiz-oederan.de
SUMMARY:Datenschutzschulung für Mitarbeiter
DESCRIPTION:mit unserm Datenschutzbeauftragten Herrn Roman Kempter
URL:https://www.hospiz-oederan.de/event/datenschutzschulung-fuer-mitarbeiter-2/
LOCATION:Im Rosenzimmer des stationären Hospizes\, Richard-Wagner-Straße 1\, Oederan\, Sachsen\, 09569\, Germany
END:VEVENT
END:VCALENDAR