BEGIN:VCALENDAR
VERSION:2.0
PRODID:-//Hospiz Oederan - ECPv6.15.20//NONSGML v1.0//EN
CALSCALE:GREGORIAN
METHOD:PUBLISH
X-ORIGINAL-URL:https://www.hospiz-oederan.de
X-WR-CALDESC:Veranstaltungen für Hospiz Oederan
REFRESH-INTERVAL;VALUE=DURATION:PT1H
X-Robots-Tag:noindex
X-PUBLISHED-TTL:PT1H
BEGIN:VTIMEZONE
TZID:Europe/Berlin
BEGIN:DAYLIGHT
TZOFFSETFROM:+0100
TZOFFSETTO:+0200
TZNAME:CEST
DTSTART:20250330T010000
END:DAYLIGHT
BEGIN:STANDARD
TZOFFSETFROM:+0200
TZOFFSETTO:+0100
TZNAME:CET
DTSTART:20251026T010000
END:STANDARD
BEGIN:DAYLIGHT
TZOFFSETFROM:+0100
TZOFFSETTO:+0200
TZNAME:CEST
DTSTART:20260329T010000
END:DAYLIGHT
BEGIN:STANDARD
TZOFFSETFROM:+0200
TZOFFSETTO:+0100
TZNAME:CET
DTSTART:20261025T010000
END:STANDARD
BEGIN:DAYLIGHT
TZOFFSETFROM:+0100
TZOFFSETTO:+0200
TZNAME:CEST
DTSTART:20270328T010000
END:DAYLIGHT
BEGIN:STANDARD
TZOFFSETFROM:+0200
TZOFFSETTO:+0100
TZNAME:CET
DTSTART:20271031T010000
END:STANDARD
END:VTIMEZONE
BEGIN:VEVENT
DTSTART;TZID=Europe/Berlin:20260108T143000
DTEND;TZID=Europe/Berlin:20260108T153000
DTSTAMP:20260423T201020
CREATED:20260102T125059Z
LAST-MODIFIED:20260102T125059Z
UID:6006-1767882600-1767886200@www.hospiz-oederan.de
SUMMARY:Der Hospizchor singt
DESCRIPTION:Schon ein ganz kleines Lied kann viel Dunkel erhellen. (Franz von Assisi)
URL:https://www.hospiz-oederan.de/event/der-hospizchor-singt-31/
LOCATION:Stationäres Hospiz Oederan\, Richard-Wagner-Straße 1\, Oederan\, 09569\, Germany
ATTACH;FMTTYPE=image/jpeg:https://www.hospiz-oederan.de/wp-content/uploads/2024/12/depositphotos_1090795-stock-photo-notes.jpeg
END:VEVENT
BEGIN:VEVENT
DTSTART;TZID=Europe/Berlin:20260112T140000
DTEND;TZID=Europe/Berlin:20260112T170000
DTSTAMP:20260423T201020
CREATED:20251118T173440Z
LAST-MODIFIED:20251118T173659Z
UID:5793-1768226400-1768237200@www.hospiz-oederan.de
SUMMARY:Vorstandssitzung
DESCRIPTION:Teilnahme nur für Vorstandsmitglieder und eingeladene Personen
URL:https://www.hospiz-oederan.de/event/vorstandssitzung-4/
LOCATION:Im Rosenzimmer des stationären Hospizes\, Richard-Wagner-Straße 1\, Oederan\, Sachsen\, 09569\, Germany
END:VEVENT
BEGIN:VEVENT
DTSTART;TZID=Europe/Berlin:20260116T170000
DTEND;TZID=Europe/Berlin:20260116T190000
DTSTAMP:20260423T201020
CREATED:20251201T151805Z
LAST-MODIFIED:20251211T121643Z
UID:5871-1768582800-1768590000@www.hospiz-oederan.de
SUMMARY:Lichterfest für Ehrenamtliche
DESCRIPTION:für die ehrenamtlichen Mitarbeiter des ambulanten Hospizdienstes und des stationären Hospizes \nim Gasthof Börnichen
URL:https://www.hospiz-oederan.de/event/lichterfest-fuer-ehrenamtliche/
LOCATION:Sachsen
END:VEVENT
BEGIN:VEVENT
DTSTART;TZID=Europe/Berlin:20260117T090000
DTEND;TZID=Europe/Berlin:20260117T160000
DTSTAMP:20260423T201020
CREATED:20251201T151855Z
LAST-MODIFIED:20251203T150935Z
UID:5873-1768640400-1768665600@www.hospiz-oederan.de
SUMMARY:Seminargruppentreffen mit Kerstin Pönisch
DESCRIPTION:nur auf Einladung
URL:https://www.hospiz-oederan.de/event/trauergruppe-mit-kerstin-poenisch/
LOCATION:Sachsen
END:VEVENT
BEGIN:VEVENT
DTSTART;TZID=Europe/Berlin:20260122T143000
DTEND;TZID=Europe/Berlin:20260122T153000
DTSTAMP:20260423T201020
CREATED:20260102T125208Z
LAST-MODIFIED:20260102T125208Z
UID:6008-1769092200-1769095800@www.hospiz-oederan.de
SUMMARY:Der Hospizchor singt
DESCRIPTION:Schon ein ganz kleines Lied kann viel Dunkel erhellen. (Franz von Assisi)
URL:https://www.hospiz-oederan.de/event/der-hospizchor-singt-32/
LOCATION:Stationäres Hospiz Oederan\, Richard-Wagner-Straße 1\, Oederan\, 09569\, Germany
ATTACH;FMTTYPE=image/jpeg:https://www.hospiz-oederan.de/wp-content/uploads/2024/12/depositphotos_1090795-stock-photo-notes.jpeg
END:VEVENT
BEGIN:VEVENT
DTSTART;TZID=Europe/Berlin:20260129T140000
DTEND;TZID=Europe/Berlin:20260129T150000
DTSTAMP:20260423T201020
CREATED:20251201T151951Z
LAST-MODIFIED:20251201T151951Z
UID:5875-1769695200-1769698800@www.hospiz-oederan.de
SUMMARY:Teamberatung
DESCRIPTION:für stationäre und ambulante Mitarbeiter
URL:https://www.hospiz-oederan.de/event/teamberatung-3/
LOCATION:Im Rosenzimmer des stationären Hospizes\, Richard-Wagner-Straße 1\, Oederan\, Sachsen\, 09569\, Germany
END:VEVENT
BEGIN:VEVENT
DTSTART;TZID=Europe/Berlin:20260129T143000
DTEND;TZID=Europe/Berlin:20260129T153000
DTSTAMP:20260423T201020
CREATED:20260102T125309Z
LAST-MODIFIED:20260102T125309Z
UID:6010-1769697000-1769700600@www.hospiz-oederan.de
SUMMARY:Der Hospizchor singt
DESCRIPTION:Schon ein ganz kleines Lied kann viel Dunkel erhellen. (Franz von Assisi)
URL:https://www.hospiz-oederan.de/event/der-hospizchor-singt-33/
LOCATION:Stationäres Hospiz Oederan\, Richard-Wagner-Straße 1\, Oederan\, 09569\, Germany
ATTACH;FMTTYPE=image/jpeg:https://www.hospiz-oederan.de/wp-content/uploads/2024/12/depositphotos_1090795-stock-photo-notes.jpeg
END:VEVENT
BEGIN:VEVENT
DTSTART;TZID=Europe/Berlin:20260131T150000
DTEND;TZID=Europe/Berlin:20260131T170000
DTSTAMP:20260423T201020
CREATED:20260102T125736Z
LAST-MODIFIED:20260102T125736Z
UID:6012-1769871600-1769878800@www.hospiz-oederan.de
SUMMARY:Gedenktag
DESCRIPTION:Nach Einladung für Angehörige unserer verstorbenen Bewohner. \nMusikalische Umrahmung durch unseren Hospizchor.
URL:https://www.hospiz-oederan.de/event/gedenktag-6/
LOCATION:Stationäres Hospiz Oederan\, Richard-Wagner-Straße 1\, Oederan\, 09569\, Germany
ATTACH;FMTTYPE=image/jpeg:https://www.hospiz-oederan.de/wp-content/uploads/2025/11/Brunnen_Kerzen3-scaled.jpg
END:VEVENT
END:VCALENDAR