BEGIN:VCALENDAR
VERSION:2.0
PRODID:-//Hospiz Oederan - ECPv6.15.20//NONSGML v1.0//EN
CALSCALE:GREGORIAN
METHOD:PUBLISH
X-WR-CALNAME:Hospiz Oederan
X-ORIGINAL-URL:https://www.hospiz-oederan.de
X-WR-CALDESC:Veranstaltungen für Hospiz Oederan
REFRESH-INTERVAL;VALUE=DURATION:PT1H
X-Robots-Tag:noindex
X-PUBLISHED-TTL:PT1H
BEGIN:VTIMEZONE
TZID:Europe/Berlin
BEGIN:DAYLIGHT
TZOFFSETFROM:+0100
TZOFFSETTO:+0200
TZNAME:CEST
DTSTART:20240331T010000
END:DAYLIGHT
BEGIN:STANDARD
TZOFFSETFROM:+0200
TZOFFSETTO:+0100
TZNAME:CET
DTSTART:20241027T010000
END:STANDARD
BEGIN:DAYLIGHT
TZOFFSETFROM:+0100
TZOFFSETTO:+0200
TZNAME:CEST
DTSTART:20250330T010000
END:DAYLIGHT
BEGIN:STANDARD
TZOFFSETFROM:+0200
TZOFFSETTO:+0100
TZNAME:CET
DTSTART:20251026T010000
END:STANDARD
BEGIN:DAYLIGHT
TZOFFSETFROM:+0100
TZOFFSETTO:+0200
TZNAME:CEST
DTSTART:20260329T010000
END:DAYLIGHT
BEGIN:STANDARD
TZOFFSETFROM:+0200
TZOFFSETTO:+0100
TZNAME:CET
DTSTART:20261025T010000
END:STANDARD
END:VTIMEZONE
BEGIN:VEVENT
DTSTART;TZID=Europe/Berlin:20251204T143000
DTEND;TZID=Europe/Berlin:20251204T153000
DTSTAMP:20260423T210455
CREATED:20250927T203744Z
LAST-MODIFIED:20250927T203744Z
UID:5668-1764858600-1764862200@www.hospiz-oederan.de
SUMMARY:Der Hospizchor singt
DESCRIPTION:Schon ein ganz kleines Lied kann viel Dunkel erhellen. (Franz von Assisi)
URL:https://www.hospiz-oederan.de/event/der-hospizchor-singt-29/
LOCATION:Stationäres Hospiz Oederan\, Richard-Wagner-Straße 1\, Oederan\, 09569\, Germany
ATTACH;FMTTYPE=image/jpeg:https://www.hospiz-oederan.de/wp-content/uploads/2024/12/depositphotos_1090795-stock-photo-notes.jpeg
END:VEVENT
BEGIN:VEVENT
DTSTART;TZID=Europe/Berlin:20251205T150000
DTEND;TZID=Europe/Berlin:20251205T170000
DTSTAMP:20260423T210455
CREATED:20251027T151716Z
LAST-MODIFIED:20251103T090205Z
UID:5716-1764946800-1764954000@www.hospiz-oederan.de
SUMMARY:Tag des Ehrenamtes
DESCRIPTION:Gemeinsames Kaffeetrinken für Ehrenamtliche im Rosenzimmer
URL:https://www.hospiz-oederan.de/event/tag-des-ehrenamtes/
LOCATION:Sachsen
END:VEVENT
BEGIN:VEVENT
DTSTART;TZID=Europe/Berlin:20251209T090000
DTEND;TZID=Europe/Berlin:20251209T120000
DTSTAMP:20260423T210455
CREATED:20250103T124147Z
LAST-MODIFIED:20250715T214707Z
UID:5180-1765270800-1765281600@www.hospiz-oederan.de
SUMMARY:Vorstandssitzung
DESCRIPTION:Teilnahme nur für Vorstandsmitglieder und eingeladene Personen
URL:https://www.hospiz-oederan.de/event/vorstandssitzung-12/
LOCATION:Stationäres Hospiz Oederan\, Richard-Wagner-Straße 1\, Oederan\, 09569\, Germany
END:VEVENT
BEGIN:VEVENT
DTSTART;TZID=Europe/Berlin:20251218T143000
DTEND;TZID=Europe/Berlin:20251218T153000
DTSTAMP:20260423T210455
CREATED:20250927T203915Z
LAST-MODIFIED:20250927T203915Z
UID:5670-1766068200-1766071800@www.hospiz-oederan.de
SUMMARY:Der Hospizchor singt
DESCRIPTION:Schon ein ganz kleines Lied kann viel Dunkel erhellen. (Franz von Assisi)
URL:https://www.hospiz-oederan.de/event/der-hospizchor-singt-30/
LOCATION:Stationäres Hospiz Oederan\, Richard-Wagner-Straße 1\, Oederan\, 09569\, Germany
ATTACH;FMTTYPE=image/avif:https://www.hospiz-oederan.de/wp-content/uploads/2024/11/weihnachtsmann-mit-melodiesymbolen-auf-regenbogenwelle_1308-64474.jpg.avif
END:VEVENT
END:VCALENDAR