BEGIN:VCALENDAR
VERSION:2.0
PRODID:-//Hospiz Oederan - ECPv6.15.20//NONSGML v1.0//EN
CALSCALE:GREGORIAN
METHOD:PUBLISH
X-ORIGINAL-URL:https://www.hospiz-oederan.de
X-WR-CALDESC:Veranstaltungen für Hospiz Oederan
REFRESH-INTERVAL;VALUE=DURATION:PT1H
X-Robots-Tag:noindex
X-PUBLISHED-TTL:PT1H
BEGIN:VTIMEZONE
TZID:Europe/Berlin
BEGIN:DAYLIGHT
TZOFFSETFROM:+0100
TZOFFSETTO:+0200
TZNAME:CEST
DTSTART:20240331T010000
END:DAYLIGHT
BEGIN:STANDARD
TZOFFSETFROM:+0200
TZOFFSETTO:+0100
TZNAME:CET
DTSTART:20241027T010000
END:STANDARD
BEGIN:DAYLIGHT
TZOFFSETFROM:+0100
TZOFFSETTO:+0200
TZNAME:CEST
DTSTART:20250330T010000
END:DAYLIGHT
BEGIN:STANDARD
TZOFFSETFROM:+0200
TZOFFSETTO:+0100
TZNAME:CET
DTSTART:20251026T010000
END:STANDARD
BEGIN:DAYLIGHT
TZOFFSETFROM:+0100
TZOFFSETTO:+0200
TZNAME:CEST
DTSTART:20260329T010000
END:DAYLIGHT
BEGIN:STANDARD
TZOFFSETFROM:+0200
TZOFFSETTO:+0100
TZNAME:CET
DTSTART:20261025T010000
END:STANDARD
END:VTIMEZONE
BEGIN:VEVENT
DTSTART;TZID=Europe/Berlin:20251106T143000
DTEND;TZID=Europe/Berlin:20251106T153000
DTSTAMP:20260423T221418
CREATED:20250927T202954Z
LAST-MODIFIED:20250927T202954Z
UID:5660-1762439400-1762443000@www.hospiz-oederan.de
SUMMARY:Der Hospizchor singt
DESCRIPTION:Schon ein ganz kleines Lied kann viel Dunkel erhellen. (Franz von Assisi)
URL:https://www.hospiz-oederan.de/event/der-hospizchor-singt-26/
LOCATION:Stationäres Hospiz Oederan\, Richard-Wagner-Straße 1\, Oederan\, 09569\, Germany
ATTACH;FMTTYPE=image/jpeg:https://www.hospiz-oederan.de/wp-content/uploads/2024/12/depositphotos_1090795-stock-photo-notes.jpeg
END:VEVENT
BEGIN:VEVENT
DTSTART;TZID=Europe/Berlin:20251112T090000
DTEND;TZID=Europe/Berlin:20251112T120000
DTSTAMP:20260423T221418
CREATED:20250103T124119Z
LAST-MODIFIED:20250103T124119Z
UID:5178-1762938000-1762948800@www.hospiz-oederan.de
SUMMARY:Vorstandssitzung
DESCRIPTION:Teilnahme nur für Vorstandsmitglieder und eingeladene Personen
URL:https://www.hospiz-oederan.de/event/vorstandssitzung-11/
LOCATION:Stationäres Hospiz Oederan\, Richard-Wagner-Straße 1\, Oederan\, 09569\, Germany
END:VEVENT
BEGIN:VEVENT
DTSTART;TZID=Europe/Berlin:20251112T100000
DTEND;TZID=Europe/Berlin:20251112T170000
DTSTAMP:20260423T221418
CREATED:20251027T151235Z
LAST-MODIFIED:20251027T151235Z
UID:5711-1762941600-1762966800@www.hospiz-oederan.de
SUMMARY:Freiberger Freizeitmesse 50 plus
DESCRIPTION:Wir sind wieder dabei! \nWir laden herzlich an unseren Informationsstand ein\, uns dort zu besuchen und mit uns ins Gespräch zu kommen.
URL:https://www.hospiz-oederan.de/event/freiberger-freizeitmesse-50-plus/
LOCATION:Sachsen
ATTACH;FMTTYPE=image/jpeg:https://www.hospiz-oederan.de/wp-content/uploads/2025/10/Plakat-Freizeit-Meese50Plus-scaled.jpg
END:VEVENT
BEGIN:VEVENT
DTSTART;TZID=Europe/Berlin:20251113T143000
DTEND;TZID=Europe/Berlin:20251113T153000
DTSTAMP:20260423T221418
CREATED:20250927T203126Z
LAST-MODIFIED:20250927T203126Z
UID:5662-1763044200-1763047800@www.hospiz-oederan.de
SUMMARY:Der Hospizchor singt
DESCRIPTION:Schon ein ganz kleines Lied kann viel Dunkel erhellen. (Franz von Assisi)
URL:https://www.hospiz-oederan.de/event/der-hospizchor-singt-27/
LOCATION:Stationäres Hospiz Oederan\, Richard-Wagner-Straße 1\, Oederan\, 09569\, Germany
ATTACH;FMTTYPE=image/jpeg:https://www.hospiz-oederan.de/wp-content/uploads/2024/12/depositphotos_1090795-stock-photo-notes.jpeg
END:VEVENT
BEGIN:VEVENT
DTSTART;TZID=Europe/Berlin:20251113T153000
DTEND;TZID=Europe/Berlin:20251113T170000
DTSTAMP:20260423T221418
CREATED:20250927T204233Z
LAST-MODIFIED:20251103T085845Z
UID:5674-1763047800-1763053200@www.hospiz-oederan.de
SUMMARY:Ehrenamtstreffen
DESCRIPTION:für Ehrenamtliche des ambulanten Dienstes zur Organisation des Weihnachtsmarktes
URL:https://www.hospiz-oederan.de/event/ehrenamtstreffen-3/
LOCATION:Im Rosenzimmer des stationären Hospizes\, Richard-Wagner-Straße 1\, Oederan\, Sachsen\, 09569\, Germany
END:VEVENT
BEGIN:VEVENT
DTSTART;TZID=Europe/Berlin:20251115T083000
DTEND;TZID=Europe/Berlin:20251115T120000
DTSTAMP:20260423T221418
CREATED:20251027T151913Z
LAST-MODIFIED:20251027T151913Z
UID:5718-1763195400-1763208000@www.hospiz-oederan.de
SUMMARY:Palliativtag in Freiberg
DESCRIPTION:Begegnungstag für Pflegende\, Apotheker\, Ärzte und Mitarbeiter \n  \nWo: Tagungszentrum Deutsches Brennstoffinstitut\, Halsbrücker Straße 34 in 09599 Freiberg
URL:https://www.hospiz-oederan.de/event/palliativtag-in-freiberg/
LOCATION:Sachsen
END:VEVENT
BEGIN:VEVENT
DTSTART;TZID=Europe/Berlin:20251116T150000
DTEND;TZID=Europe/Berlin:20251116T170000
DTSTAMP:20260423T221418
CREATED:20250927T203512Z
LAST-MODIFIED:20250927T203512Z
UID:5664-1763305200-1763312400@www.hospiz-oederan.de
SUMMARY:Gedenktag
DESCRIPTION:für eingeladene Angehörige
URL:https://www.hospiz-oederan.de/event/gedenktag-4/
LOCATION:Stationäres Hospiz Oederan\, Richard-Wagner-Straße 1\, Oederan\, 09569\, Germany
ATTACH;FMTTYPE=image/jpeg:https://www.hospiz-oederan.de/wp-content/uploads/2021/08/Anlass-Spende.jpg
END:VEVENT
BEGIN:VEVENT
DTSTART;TZID=Europe/Berlin:20251120T143000
DTEND;TZID=Europe/Berlin:20251120T153000
DTSTAMP:20260423T221418
CREATED:20250927T203646Z
LAST-MODIFIED:20251024T093424Z
UID:5666-1763649000-1763652600@www.hospiz-oederan.de
SUMMARY:Der Hospizchor singt
DESCRIPTION:Schon ein ganz kleines Lied kann viel Dunkel erhellen. (Franz von Assisi)
URL:https://www.hospiz-oederan.de/event/der-hospizchor-singt-28/
LOCATION:Stationäres Hospiz Oederan\, Richard-Wagner-Straße 1\, Oederan\, 09569\, Germany
ATTACH;FMTTYPE=image/jpeg:https://www.hospiz-oederan.de/wp-content/uploads/2024/12/depositphotos_1090795-stock-photo-notes.jpeg
END:VEVENT
BEGIN:VEVENT
DTSTART;TZID=Europe/Berlin:20251121T150000
DTEND;TZID=Europe/Berlin:20251121T170000
DTSTAMP:20260423T221418
CREATED:20251027T151625Z
LAST-MODIFIED:20251027T151625Z
UID:5714-1763737200-1763744400@www.hospiz-oederan.de
SUMMARY:Informationsveranstaltung für Jung und Alt in Eppendorf
DESCRIPTION:Wo: Kultur- und Dorfgemeinschaftshaus “Alter Bahnhof”\, Bahnhofstraße 2a in 09575 Eppendorf \nDer Ambulante Hospizdienst und das stationäre Hospiz stellen sich vor. \nReferentinnen: Angela Kräher (Pflegedienstleiterin des stationären Hospizes)\, Betina Reinsch und Anja Pfeiffer (Koordinatorinnen des Ambulanten Hospizdienstes) \nHerzlich willkommen!
URL:https://www.hospiz-oederan.de/event/informationsveranstaltung-fuer-jung-und-alt-in-eppendorf/
LOCATION:Sachsen
END:VEVENT
BEGIN:VEVENT
DTSTART;TZID=Europe/Berlin:20251125T160000
DTEND;TZID=Europe/Berlin:20251125T180000
DTSTAMP:20260423T221418
CREATED:20251117T100558Z
LAST-MODIFIED:20251117T100558Z
UID:5772-1764086400-1764093600@www.hospiz-oederan.de
SUMMARY:Arbeitskreis „Begleitung trauernder Kinder und Jugendlicher“
DESCRIPTION:Leitung Patricia Smolka
URL:https://www.hospiz-oederan.de/event/arbeitskreis-begleitung-trauernder-kinder-und-jugendlicher/
LOCATION:Im Rosenzimmer des stationären Hospizes\, Richard-Wagner-Straße 1\, Oederan\, Sachsen\, 09569\, Germany
END:VEVENT
BEGIN:VEVENT
DTSTART;TZID=Europe/Berlin:20251128T160000
DTEND;TZID=Europe/Berlin:20251128T190000
DTSTAMP:20260423T221418
CREATED:20250123T100720Z
LAST-MODIFIED:20251024T093727Z
UID:5225-1764345600-1764356400@www.hospiz-oederan.de
SUMMARY:Weihnachtsmarkt am Hospiz
DESCRIPTION:
URL:https://www.hospiz-oederan.de/event/weihnachtsmarkt-am-hospiz/
LOCATION:Sachsen
ATTACH;FMTTYPE=image/jpeg:https://www.hospiz-oederan.de/wp-content/uploads/2025/10/Einladung-Weihnachtsmarkt-2025_.001.jpeg
END:VEVENT
END:VCALENDAR