BEGIN:VCALENDAR
VERSION:2.0
PRODID:-//Hospiz Oederan - ECPv6.15.20//NONSGML v1.0//EN
CALSCALE:GREGORIAN
METHOD:PUBLISH
X-ORIGINAL-URL:https://www.hospiz-oederan.de
X-WR-CALDESC:Veranstaltungen für Hospiz Oederan
REFRESH-INTERVAL;VALUE=DURATION:PT1H
X-Robots-Tag:noindex
X-PUBLISHED-TTL:PT1H
BEGIN:VTIMEZONE
TZID:Europe/Berlin
BEGIN:DAYLIGHT
TZOFFSETFROM:+0100
TZOFFSETTO:+0200
TZNAME:CEST
DTSTART:20240331T010000
END:DAYLIGHT
BEGIN:STANDARD
TZOFFSETFROM:+0200
TZOFFSETTO:+0100
TZNAME:CET
DTSTART:20241027T010000
END:STANDARD
BEGIN:DAYLIGHT
TZOFFSETFROM:+0100
TZOFFSETTO:+0200
TZNAME:CEST
DTSTART:20250330T010000
END:DAYLIGHT
BEGIN:STANDARD
TZOFFSETFROM:+0200
TZOFFSETTO:+0100
TZNAME:CET
DTSTART:20251026T010000
END:STANDARD
BEGIN:DAYLIGHT
TZOFFSETFROM:+0100
TZOFFSETTO:+0200
TZNAME:CEST
DTSTART:20260329T010000
END:DAYLIGHT
BEGIN:STANDARD
TZOFFSETFROM:+0200
TZOFFSETTO:+0100
TZNAME:CET
DTSTART:20261025T010000
END:STANDARD
END:VTIMEZONE
BEGIN:VEVENT
DTSTART;TZID=Europe/Berlin:20250813T090000
DTEND;TZID=Europe/Berlin:20250813T120000
DTSTAMP:20260424T005013
CREATED:20250103T123949Z
LAST-MODIFIED:20250103T123949Z
UID:5172-1755075600-1755086400@www.hospiz-oederan.de
SUMMARY:Vorstandssitzung
DESCRIPTION:Teilnahme nur für Vorstandsmitglieder und eingeladene Personen
URL:https://www.hospiz-oederan.de/event/vorstandssitzung-8/
LOCATION:Stationäres Hospiz Oederan\, Richard-Wagner-Straße 1\, Oederan\, 09569\, Germany
END:VEVENT
BEGIN:VEVENT
DTSTART;TZID=Europe/Berlin:20250814T143000
DTEND;TZID=Europe/Berlin:20250814T153000
DTSTAMP:20260424T005013
CREATED:20250721T132030Z
LAST-MODIFIED:20250721T132030Z
UID:5573-1755181800-1755185400@www.hospiz-oederan.de
SUMMARY:Der Hospizchor singt
DESCRIPTION:Schon ein ganz kleines Lied kann viel Dunkel erhellen. (Franz von Assisi)
URL:https://www.hospiz-oederan.de/event/der-hospizchor-singt-18/
LOCATION:Stationäres Hospiz Oederan\, Richard-Wagner-Straße 1\, Oederan\, 09569\, Germany
ATTACH;FMTTYPE=image/jpeg:https://www.hospiz-oederan.de/wp-content/uploads/2024/12/depositphotos_1090795-stock-photo-notes.jpeg
END:VEVENT
BEGIN:VEVENT
DTSTART;TZID=Europe/Berlin:20250828T143000
DTEND;TZID=Europe/Berlin:20250828T153000
DTSTAMP:20260424T005013
CREATED:20250721T132136Z
LAST-MODIFIED:20250721T132136Z
UID:5575-1756391400-1756395000@www.hospiz-oederan.de
SUMMARY:Der Hospizchor singt
DESCRIPTION:Schon ein ganz kleines Lied kann viel Dunkel erhellen. (Franz von Assisi)
URL:https://www.hospiz-oederan.de/event/der-hospizchor-singt-19/
LOCATION:Stationäres Hospiz Oederan\, Richard-Wagner-Straße 1\, Oederan\, 09569\, Germany
ATTACH;FMTTYPE=image/jpeg:https://www.hospiz-oederan.de/wp-content/uploads/2024/12/depositphotos_1090795-stock-photo-notes.jpeg
END:VEVENT
BEGIN:VEVENT
DTSTART;TZID=Europe/Berlin:20250829T150000
DTEND;TZID=Europe/Berlin:20250829T173000
DTSTAMP:20260424T005013
CREATED:20250815T172359Z
LAST-MODIFIED:20250815T172359Z
UID:5605-1756479600-1756488600@www.hospiz-oederan.de
SUMMARY:Beachparty im Hospizpark
DESCRIPTION:Freuen Sie sich auf eine Taufe\, auf Sketche und Musik sowie verschiedene Getränke und Snacks.
URL:https://www.hospiz-oederan.de/event/beachparty-im-hospizpark/
LOCATION:Stationäres Hospiz Oederan\, Richard-Wagner-Straße 1\, Oederan\, 09569\, Germany
ATTACH;FMTTYPE=image/png:https://www.hospiz-oederan.de/wp-content/uploads/2025/08/Beachparty-ohne-Datum-und-Zeit.png
END:VEVENT
END:VCALENDAR