BEGIN:VCALENDAR
VERSION:2.0
PRODID:-//Hospiz Oederan - ECPv6.15.20//NONSGML v1.0//EN
CALSCALE:GREGORIAN
METHOD:PUBLISH
X-ORIGINAL-URL:https://www.hospiz-oederan.de
X-WR-CALDESC:Veranstaltungen für Hospiz Oederan
REFRESH-INTERVAL;VALUE=DURATION:PT1H
X-Robots-Tag:noindex
X-PUBLISHED-TTL:PT1H
BEGIN:VTIMEZONE
TZID:Europe/Berlin
BEGIN:DAYLIGHT
TZOFFSETFROM:+0100
TZOFFSETTO:+0200
TZNAME:CEST
DTSTART:20240331T010000
END:DAYLIGHT
BEGIN:STANDARD
TZOFFSETFROM:+0200
TZOFFSETTO:+0100
TZNAME:CET
DTSTART:20241027T010000
END:STANDARD
BEGIN:DAYLIGHT
TZOFFSETFROM:+0100
TZOFFSETTO:+0200
TZNAME:CEST
DTSTART:20250330T010000
END:DAYLIGHT
BEGIN:STANDARD
TZOFFSETFROM:+0200
TZOFFSETTO:+0100
TZNAME:CET
DTSTART:20251026T010000
END:STANDARD
BEGIN:DAYLIGHT
TZOFFSETFROM:+0100
TZOFFSETTO:+0200
TZNAME:CEST
DTSTART:20260329T010000
END:DAYLIGHT
BEGIN:STANDARD
TZOFFSETFROM:+0200
TZOFFSETTO:+0100
TZNAME:CET
DTSTART:20261025T010000
END:STANDARD
END:VTIMEZONE
BEGIN:VEVENT
DTSTART;TZID=Europe/Berlin:20250303T111500
DTEND;TZID=Europe/Berlin:20250303T114500
DTSTAMP:20260424T055642
CREATED:20250303T095137Z
LAST-MODIFIED:20250303T095137Z
UID:5305-1741000500-1741002300@www.hospiz-oederan.de
SUMMARY:Breitenauer Karnevalverein e.V.
DESCRIPTION:Funkengarde kommt ins Hospiz
URL:https://www.hospiz-oederan.de/event/breitenauer-karnevalverein-e-v/
LOCATION:Stationäres Hospiz Oederan\, Richard-Wagner-Straße 1\, Oederan\, 09569\, Germany
END:VEVENT
BEGIN:VEVENT
DTSTART;TZID=Europe/Berlin:20250304T150000
DTEND;TZID=Europe/Berlin:20250304T160000
DTSTAMP:20260424T055642
CREATED:20250227T112432Z
LAST-MODIFIED:20250227T112432Z
UID:5302-1741100400-1741104000@www.hospiz-oederan.de
SUMMARY:Fasching im Hospiz im Rosenzimmer
DESCRIPTION:für alle Bewohner\, Angehörige und Freunde \nmit Sketchen\, Pfannkuchen und Musik
URL:https://www.hospiz-oederan.de/event/fasching-im-hospiz-im-rosenzimmer/
LOCATION:Stationäres Hospiz Oederan\, Richard-Wagner-Straße 1\, Oederan\, 09569\, Germany
END:VEVENT
BEGIN:VEVENT
DTSTART;TZID=Europe/Berlin:20250307T150000
DTEND;TZID=Europe/Berlin:20250307T170000
DTSTAMP:20260424T055642
CREATED:20250213T102119Z
LAST-MODIFIED:20250213T102233Z
UID:5259-1741359600-1741366800@www.hospiz-oederan.de
SUMMARY:Dankesfeier für die Sponsoren unseres Fahrzeugs im ambulanten Dienst
DESCRIPTION:
URL:https://www.hospiz-oederan.de/event/dankesveranstaltung-fuer-sponsoren-des-fahrzeuges-fuer-unseren-ambulanten-dienst/
LOCATION:Stationäres Hospiz Oederan\, Richard-Wagner-Straße 1\, Oederan\, 09569\, Germany
END:VEVENT
BEGIN:VEVENT
DTSTART;TZID=Europe/Berlin:20250313T143000
DTEND;TZID=Europe/Berlin:20250313T153000
DTSTAMP:20260424T055642
CREATED:20241219T143920Z
LAST-MODIFIED:20241219T144338Z
UID:5087-1741876200-1741879800@www.hospiz-oederan.de
SUMMARY:Der Hospizchor singt
DESCRIPTION:“Schon ein ganz kleines Lied kann viel Dunkel erhellen.” \n(Franz von Assisi)
URL:https://www.hospiz-oederan.de/event/der-hospizchor-singt-8/
LOCATION:Stationäres Hospiz Oederan\, Richard-Wagner-Straße 1\, Oederan\, 09569\, Germany
ATTACH;FMTTYPE=image/jpeg:https://www.hospiz-oederan.de/wp-content/uploads/2024/12/depositphotos_1090795-stock-photo-notes.jpeg
END:VEVENT
BEGIN:VEVENT
DTSTART;TZID=Europe/Berlin:20250313T153000
DTEND;TZID=Europe/Berlin:20250313T170000
DTSTAMP:20260424T055642
CREATED:20250213T102424Z
LAST-MODIFIED:20250213T102424Z
UID:5263-1741879800-1741885200@www.hospiz-oederan.de
SUMMARY:Weiterbildung „Trauer bei Kindern & Jugendlichen“ für unsere Ehrenamtlichen
DESCRIPTION:Referentinnen Patricia Smolka und Peggy Estel
URL:https://www.hospiz-oederan.de/event/weiterbildung-trauer-bei-kindern-jugendlichen-fuer-unsere-ehrenamtlichen/
LOCATION:Stationäres Hospiz Oederan\, Richard-Wagner-Straße 1\, Oederan\, 09569\, Germany
END:VEVENT
BEGIN:VEVENT
DTSTART;TZID=Europe/Berlin:20250320T143000
DTEND;TZID=Europe/Berlin:20250320T153000
DTSTAMP:20260424T055642
CREATED:20241219T143946Z
LAST-MODIFIED:20241219T144347Z
UID:5089-1742481000-1742484600@www.hospiz-oederan.de
SUMMARY:Der Hospizchor singt
DESCRIPTION:“Schon ein ganz kleines Lied kann viel Dunkel erhellen.” \n(Franz von Assisi)
URL:https://www.hospiz-oederan.de/event/der-hospizchor-singt-9/
LOCATION:Stationäres Hospiz Oederan\, Richard-Wagner-Straße 1\, Oederan\, 09569\, Germany
ATTACH;FMTTYPE=image/jpeg:https://www.hospiz-oederan.de/wp-content/uploads/2024/12/depositphotos_1090795-stock-photo-notes.jpeg
END:VEVENT
BEGIN:VEVENT
DTSTART;TZID=Europe/Berlin:20250321T090000
DTEND;TZID=Europe/Berlin:20250321T120000
DTSTAMP:20260424T055642
CREATED:20250213T101047Z
LAST-MODIFIED:20250213T101145Z
UID:5253-1742547600-1742558400@www.hospiz-oederan.de
SUMMARY:Vorstandssitzung
DESCRIPTION:Teilnahme nur für Vorstandsmitglieder und eingeladene Personen
URL:https://www.hospiz-oederan.de/event/vorstandssitzung-13/
LOCATION:Stationäres Hospiz Oederan\, Richard-Wagner-Straße 1\, Oederan\, 09569\, Germany
END:VEVENT
BEGIN:VEVENT
DTSTART;TZID=Europe/Berlin:20250327T143000
DTEND;TZID=Europe/Berlin:20250327T153000
DTSTAMP:20260424T055642
CREATED:20241219T144147Z
LAST-MODIFIED:20241219T144356Z
UID:5091-1743085800-1743089400@www.hospiz-oederan.de
SUMMARY:Der Hospizchor singt
DESCRIPTION:“Schon ein ganz kleines Lied kann viel Dunkel erhellen.” \n(Franz von Assisi)
URL:https://www.hospiz-oederan.de/event/der-hospizchor-singt-10/
LOCATION:Stationäres Hospiz Oederan\, Richard-Wagner-Straße 1\, Oederan\, 09569\, Germany
ATTACH;FMTTYPE=image/jpeg:https://www.hospiz-oederan.de/wp-content/uploads/2024/12/depositphotos_1090795-stock-photo-notes.jpeg
END:VEVENT
BEGIN:VEVENT
DTSTART;TZID=Europe/Berlin:20250329T143000
DTEND;TZID=Europe/Berlin:20250329T153000
DTSTAMP:20260424T055642
CREATED:20250123T095205Z
LAST-MODIFIED:20250123T095205Z
UID:5217-1743258600-1743262200@www.hospiz-oederan.de
SUMMARY:Hospizführung
DESCRIPTION:Wir laden Sie herzlich ein\, uns für Führungen durch unser Hospiz zu begleiten. Es ist eine Gelegenheit\, unser Haus kennenzulernen\, das sich der Pflege und Betreuung schwerkranker Menschen widmet.
URL:https://www.hospiz-oederan.de/event/hospizfuehrung-2/
LOCATION:Stationäres Hospiz Oederan\, Richard-Wagner-Straße 1\, Oederan\, 09569\, Germany
END:VEVENT
BEGIN:VEVENT
DTSTART;TZID=Europe/Berlin:20250330T150000
DTEND;TZID=Europe/Berlin:20250330T170000
DTSTAMP:20260424T055642
CREATED:20250213T104836Z
LAST-MODIFIED:20250213T104836Z
UID:5265-1743346800-1743354000@www.hospiz-oederan.de
SUMMARY:Gedenktag
DESCRIPTION:für eingeladene Angehörige
URL:https://www.hospiz-oederan.de/event/gedenktag-2/
LOCATION:Stationäres Hospiz Oederan\, Richard-Wagner-Straße 1\, Oederan\, 09569\, Germany
END:VEVENT
END:VCALENDAR