BEGIN:VCALENDAR
VERSION:2.0
PRODID:-//Hospiz Oederan - ECPv6.15.20//NONSGML v1.0//EN
CALSCALE:GREGORIAN
METHOD:PUBLISH
X-WR-CALNAME:Hospiz Oederan
X-ORIGINAL-URL:https://www.hospiz-oederan.de
X-WR-CALDESC:Veranstaltungen für Hospiz Oederan
REFRESH-INTERVAL;VALUE=DURATION:PT1H
X-Robots-Tag:noindex
X-PUBLISHED-TTL:PT1H
BEGIN:VTIMEZONE
TZID:Europe/Berlin
BEGIN:DAYLIGHT
TZOFFSETFROM:+0100
TZOFFSETTO:+0200
TZNAME:CEST
DTSTART:20240331T010000
END:DAYLIGHT
BEGIN:STANDARD
TZOFFSETFROM:+0200
TZOFFSETTO:+0100
TZNAME:CET
DTSTART:20241027T010000
END:STANDARD
BEGIN:DAYLIGHT
TZOFFSETFROM:+0100
TZOFFSETTO:+0200
TZNAME:CEST
DTSTART:20250330T010000
END:DAYLIGHT
BEGIN:STANDARD
TZOFFSETFROM:+0200
TZOFFSETTO:+0100
TZNAME:CET
DTSTART:20251026T010000
END:STANDARD
BEGIN:DAYLIGHT
TZOFFSETFROM:+0100
TZOFFSETTO:+0200
TZNAME:CEST
DTSTART:20260329T010000
END:DAYLIGHT
BEGIN:STANDARD
TZOFFSETFROM:+0200
TZOFFSETTO:+0100
TZNAME:CET
DTSTART:20261025T010000
END:STANDARD
END:VTIMEZONE
BEGIN:VEVENT
DTSTART;VALUE=DATE:20250103
DTEND;VALUE=DATE:20250104
DTSTAMP:20260424T074906
CREATED:20241127T185320Z
LAST-MODIFIED:20241127T204000Z
UID:4921-1735862400-1735948799@www.hospiz-oederan.de
SUMMARY:Sternsinger
DESCRIPTION:besuchen unser Hospiz
URL:https://www.hospiz-oederan.de/event/sternsinger/
LOCATION:Sachsen
ATTACH;FMTTYPE=image/jpeg:https://www.hospiz-oederan.de/wp-content/uploads/2024/11/images.jpeg
END:VEVENT
BEGIN:VEVENT
DTSTART;TZID=Europe/Berlin:20250108T090000
DTEND;TZID=Europe/Berlin:20250108T120000
DTSTAMP:20260424T074906
CREATED:20250103T123241Z
LAST-MODIFIED:20250103T123300Z
UID:5157-1736326800-1736337600@www.hospiz-oederan.de
SUMMARY:Vorstandssitzung
DESCRIPTION:Teilnahme nur für Vorstandsmitglieder und eingeladene Personen
URL:https://www.hospiz-oederan.de/event/vorstandssitzung/
LOCATION:Stationäres Hospiz Oederan\, Richard-Wagner-Straße 1\, Oederan\, 09569\, Germany
END:VEVENT
BEGIN:VEVENT
DTSTART;TZID=Europe/Berlin:20250109T143000
DTEND;TZID=Europe/Berlin:20250109T153000
DTSTAMP:20260424T074906
CREATED:20241219T143413Z
LAST-MODIFIED:20241219T144549Z
UID:5073-1736433000-1736436600@www.hospiz-oederan.de
SUMMARY:Der Hospizchor singt
DESCRIPTION:“Schon ein ganz kleines Lied kann viel Dunkel erhellen.” \n(Franz von Assisi)
URL:https://www.hospiz-oederan.de/event/der-hospizchor-singt/
LOCATION:Stationäres Hospiz Oederan\, Richard-Wagner-Straße 1\, Oederan\, 09569\, Germany
ATTACH;FMTTYPE=image/jpeg:https://www.hospiz-oederan.de/wp-content/uploads/2024/12/depositphotos_1090795-stock-photo-notes.jpeg
END:VEVENT
BEGIN:VEVENT
DTSTART;TZID=Europe/Berlin:20250114T090000
DTEND;TZID=Europe/Berlin:20250114T163000
DTSTAMP:20260424T074906
CREATED:20250103T122827Z
LAST-MODIFIED:20250103T122827Z
UID:5151-1736845200-1736872200@www.hospiz-oederan.de
SUMMARY:Weiterbildung Grundkurs Kinästhetik
DESCRIPTION:
URL:https://www.hospiz-oederan.de/event/weiterbildung-grundkurs-kinaesthetik/
LOCATION:Stationäres Hospiz Oederan\, Richard-Wagner-Straße 1\, Oederan\, 09569\, Germany
END:VEVENT
BEGIN:VEVENT
DTSTART;TZID=Europe/Berlin:20250115T090000
DTEND;TZID=Europe/Berlin:20250115T163000
DTSTAMP:20260424T074906
CREATED:20250103T122849Z
LAST-MODIFIED:20250103T122849Z
UID:5153-1736931600-1736958600@www.hospiz-oederan.de
SUMMARY:Weiterbildung Grundkurs Kinästhetik
DESCRIPTION:
URL:https://www.hospiz-oederan.de/event/weiterbildung-grundkurs-kinaesthetik-2/
LOCATION:Stationäres Hospiz Oederan\, Richard-Wagner-Straße 1\, Oederan\, 09569\, Germany
END:VEVENT
BEGIN:VEVENT
DTSTART;TZID=Europe/Berlin:20250116T090000
DTEND;TZID=Europe/Berlin:20250116T163000
DTSTAMP:20260424T074906
CREATED:20250103T122911Z
LAST-MODIFIED:20250103T122911Z
UID:5155-1737018000-1737045000@www.hospiz-oederan.de
SUMMARY:Weiterbildung Grundkurs Kinästhetik
DESCRIPTION:
URL:https://www.hospiz-oederan.de/event/weiterbildung-grundkurs-kinaesthetik-3/
LOCATION:Stationäres Hospiz Oederan\, Richard-Wagner-Straße 1\, Oederan\, 09569\, Germany
END:VEVENT
BEGIN:VEVENT
DTSTART;TZID=Europe/Berlin:20250116T143000
DTEND;TZID=Europe/Berlin:20250116T153000
DTSTAMP:20260424T074906
CREATED:20241219T143551Z
LAST-MODIFIED:20241219T144539Z
UID:5075-1737037800-1737041400@www.hospiz-oederan.de
SUMMARY:Der Hospizchor singt
DESCRIPTION:“Schon ein ganz kleines Lied kann viel Dunkel erhellen.” \n(Franz von Assisi)
URL:https://www.hospiz-oederan.de/event/der-hospizchor-singt-2/
LOCATION:Stationäres Hospiz Oederan\, Richard-Wagner-Straße 1\, Oederan\, 09569\, Germany
ATTACH;FMTTYPE=image/jpeg:https://www.hospiz-oederan.de/wp-content/uploads/2024/12/depositphotos_1090795-stock-photo-notes.jpeg
END:VEVENT
BEGIN:VEVENT
DTSTART;TZID=Europe/Berlin:20250119T150000
DTEND;TZID=Europe/Berlin:20250119T170000
DTSTAMP:20260424T074906
CREATED:20250115T133808Z
LAST-MODIFIED:20250115T134109Z
UID:5198-1737298800-1737306000@www.hospiz-oederan.de
SUMMARY:Gedenktag
DESCRIPTION:für eingeladene Angehörige
URL:https://www.hospiz-oederan.de/event/gedenktag/
LOCATION:Stationäres Hospiz Oederan\, Richard-Wagner-Straße 1\, Oederan\, 09569\, Germany
END:VEVENT
BEGIN:VEVENT
DTSTART;TZID=Europe/Berlin:20250123T143000
DTEND;TZID=Europe/Berlin:20250123T153000
DTSTAMP:20260424T074906
CREATED:20241219T143649Z
LAST-MODIFIED:20241219T144519Z
UID:5077-1737642600-1737646200@www.hospiz-oederan.de
SUMMARY:Der Hospizchor singt
DESCRIPTION:“Schon ein ganz kleines Lied kann viel Dunkel erhellen.” \n(Franz von Assisi)
URL:https://www.hospiz-oederan.de/event/der-hospizchor-singt-3/
LOCATION:Stationäres Hospiz Oederan\, Richard-Wagner-Straße 1\, Oederan\, 09569\, Germany
ATTACH;FMTTYPE=image/jpeg:https://www.hospiz-oederan.de/wp-content/uploads/2024/12/depositphotos_1090795-stock-photo-notes.jpeg
END:VEVENT
BEGIN:VEVENT
DTSTART;TZID=Europe/Berlin:20250130T140000
DTEND;TZID=Europe/Berlin:20250130T160000
DTSTAMP:20260424T074906
CREATED:20250115T135814Z
LAST-MODIFIED:20250115T135853Z
UID:5200-1738245600-1738252800@www.hospiz-oederan.de
SUMMARY:Teamberatung
DESCRIPTION:und Pflegeberatung mit Fokus PalliDoc \n  \nnur für Mitarbeiter
URL:https://www.hospiz-oederan.de/event/teamberatung-und-anschliessend-pflegeberatung/
LOCATION:Stationäres Hospiz Oederan\, Richard-Wagner-Straße 1\, Oederan\, 09569\, Germany
ATTACH;FMTTYPE=image/avif:https://www.hospiz-oederan.de/wp-content/uploads/2024/11/teamwork-puzzle-winzige-leute-die-grosse-buchstaben-in-eine-reihe-stecken-zusammenarbeit-mit-kollegen_176411-3752.jpg.avif
END:VEVENT
BEGIN:VEVENT
DTSTART;TZID=Europe/Berlin:20250131T150000
DTEND;TZID=Europe/Berlin:20250131T173000
DTSTAMP:20260424T074906
CREATED:20241127T204757Z
LAST-MODIFIED:20241128T213429Z
UID:4928-1738335600-1738344600@www.hospiz-oederan.de
SUMMARY:Lichterabend
DESCRIPTION:für die ehrenamtlichen Mitarbeiter des ambulanten Hospizdienstes und des stationären Hospizes
URL:https://www.hospiz-oederan.de/event/lichterabend/
LOCATION:Bürgersaal der Stadt Oederan\, Markt 7\, Oederan\, Sachsen\, 09569\, Germany
ATTACH;FMTTYPE=image/jpeg:https://www.hospiz-oederan.de/wp-content/uploads/2021/08/Anlass-Spende.jpg
END:VEVENT
END:VCALENDAR