BEGIN:VCALENDAR
VERSION:2.0
PRODID:-//Hospiz Oederan - ECPv6.15.20//NONSGML v1.0//EN
CALSCALE:GREGORIAN
METHOD:PUBLISH
X-WR-CALNAME:Hospiz Oederan
X-ORIGINAL-URL:https://www.hospiz-oederan.de
X-WR-CALDESC:Veranstaltungen für Hospiz Oederan
REFRESH-INTERVAL;VALUE=DURATION:PT1H
X-Robots-Tag:noindex
X-PUBLISHED-TTL:PT1H
BEGIN:VTIMEZONE
TZID:Europe/Berlin
BEGIN:DAYLIGHT
TZOFFSETFROM:+0100
TZOFFSETTO:+0200
TZNAME:CEST
DTSTART:20230326T010000
END:DAYLIGHT
BEGIN:STANDARD
TZOFFSETFROM:+0200
TZOFFSETTO:+0100
TZNAME:CET
DTSTART:20231029T010000
END:STANDARD
BEGIN:DAYLIGHT
TZOFFSETFROM:+0100
TZOFFSETTO:+0200
TZNAME:CEST
DTSTART:20240331T010000
END:DAYLIGHT
BEGIN:STANDARD
TZOFFSETFROM:+0200
TZOFFSETTO:+0100
TZNAME:CET
DTSTART:20241027T010000
END:STANDARD
BEGIN:DAYLIGHT
TZOFFSETFROM:+0100
TZOFFSETTO:+0200
TZNAME:CEST
DTSTART:20250330T010000
END:DAYLIGHT
BEGIN:STANDARD
TZOFFSETFROM:+0200
TZOFFSETTO:+0100
TZNAME:CET
DTSTART:20251026T010000
END:STANDARD
END:VTIMEZONE
BEGIN:VEVENT
DTSTART;TZID=Europe/Berlin:20241204T143000
DTEND;TZID=Europe/Berlin:20241204T153000
DTSTAMP:20260424T085509
CREATED:20241119T061037Z
LAST-MODIFIED:20241119T061037Z
UID:4896-1733322600-1733326200@www.hospiz-oederan.de
SUMMARY:Musik im Advent
DESCRIPTION:Hospizchor
URL:https://www.hospiz-oederan.de/event/musik-im-advent/
LOCATION:Sachsen
ATTACH;FMTTYPE=image/webp:https://www.hospiz-oederan.de/wp-content/uploads/2024/11/depositphotos_63653511-stock-illustration-abstract-colorful-music-notes.webp
END:VEVENT
BEGIN:VEVENT
DTSTART;TZID=Europe/Berlin:20241209T143000
DTEND;TZID=Europe/Berlin:20241209T153000
DTSTAMP:20260424T085509
CREATED:20241127T164951Z
LAST-MODIFIED:20241127T165049Z
UID:4913-1733754600-1733758200@www.hospiz-oederan.de
SUMMARY:Märchenspiel Rumpelstilzchen
DESCRIPTION:Gespielt von Mitarbeitern für Bewohner und Angehörige
URL:https://www.hospiz-oederan.de/event/maerchenspiel-rumpelstilzchen/
LOCATION:Stationäres Hospiz Oederan\, Richard-Wagner-Straße 1\, Oederan\, 09569\, Germany
ATTACH;FMTTYPE=image/jpeg:https://www.hospiz-oederan.de/wp-content/uploads/2024/11/Rumpelstilzchen-1.jpg
END:VEVENT
BEGIN:VEVENT
DTSTART;TZID=Europe/Berlin:20241210T170000
DTEND;TZID=Europe/Berlin:20241210T190000
DTSTAMP:20260424T085509
CREATED:20241127T184628Z
LAST-MODIFIED:20241127T184714Z
UID:4917-1733850000-1733857200@www.hospiz-oederan.de
SUMMARY:Gruppenabend der Ehrenamtlichen
DESCRIPTION:der Hospizgruppe der Diakonie Freiberg
URL:https://www.hospiz-oederan.de/event/gruppenabend-der-ehrenamtlichen/
LOCATION:Sachsen
END:VEVENT
BEGIN:VEVENT
DTSTART;TZID=Europe/Berlin:20241212T143000
DTEND;TZID=Europe/Berlin:20241212T153000
DTSTAMP:20260424T085509
CREATED:20241119T061131Z
LAST-MODIFIED:20241119T061131Z
UID:4898-1734013800-1734017400@www.hospiz-oederan.de
SUMMARY:Musik im Advent
DESCRIPTION:Hospizchor
URL:https://www.hospiz-oederan.de/event/musik-im-advent-2/
LOCATION:Sachsen
ATTACH;FMTTYPE=image/webp:https://www.hospiz-oederan.de/wp-content/uploads/2024/11/depositphotos_63653511-stock-illustration-abstract-colorful-music-notes.webp
END:VEVENT
BEGIN:VEVENT
DTSTART;VALUE=DATE:20241216
DTEND;VALUE=DATE:20241217
DTSTAMP:20260424T085509
CREATED:20241127T212013Z
LAST-MODIFIED:20241127T212230Z
UID:4935-1734307200-1734393599@www.hospiz-oederan.de
SUMMARY:Seminar PalliDoc
DESCRIPTION:(nur für Mitarbeiter)
URL:https://www.hospiz-oederan.de/event/seminar-pallidoc/
LOCATION:Stationäres Hospiz Oederan\, Richard-Wagner-Straße 1\, Oederan\, 09569\, Germany
ATTACH;FMTTYPE=image/png:https://www.hospiz-oederan.de/wp-content/uploads/2024/11/pallidoc_logo.png
END:VEVENT
BEGIN:VEVENT
DTSTART;VALUE=DATE:20241217
DTEND;VALUE=DATE:20241218
DTSTAMP:20260424T085509
CREATED:20241127T212208Z
LAST-MODIFIED:20241127T212208Z
UID:4939-1734393600-1734479999@www.hospiz-oederan.de
SUMMARY:Seminar PalliDoc
DESCRIPTION:(nur für Mitarbeiter)
URL:https://www.hospiz-oederan.de/event/seminar-pallidoc-2/
LOCATION:Stationäres Hospiz Oederan\, Richard-Wagner-Straße 1\, Oederan\, 09569\, Germany
ATTACH;FMTTYPE=image/png:https://www.hospiz-oederan.de/wp-content/uploads/2024/11/pallidoc_logo.png
END:VEVENT
BEGIN:VEVENT
DTSTART;TZID=Europe/Berlin:20241219T143000
DTEND;TZID=Europe/Berlin:20241219T153000
DTSTAMP:20260424T085509
CREATED:20241119T061428Z
LAST-MODIFIED:20241119T061428Z
UID:4900-1734618600-1734622200@www.hospiz-oederan.de
SUMMARY:Musik im Advent
DESCRIPTION:Hospizchor & Bescherung
URL:https://www.hospiz-oederan.de/event/musik-im-advent-3/
LOCATION:Sachsen
ATTACH;FMTTYPE=image/avif:https://www.hospiz-oederan.de/wp-content/uploads/2024/11/weihnachtsmann-mit-melodiesymbolen-auf-regenbogenwelle_1308-64474.jpg.avif
END:VEVENT
BEGIN:VEVENT
DTSTART;TZID=Europe/Berlin:20241219T170000
DTEND;TZID=Europe/Berlin:20241219T183000
DTSTAMP:20260424T085509
CREATED:20241219T145103Z
LAST-MODIFIED:20241219T145132Z
UID:5103-1734627600-1734633000@www.hospiz-oederan.de
SUMMARY:Erfahrungsaustausch - Mitglieder Notfallhilfe Freiberg e.V.
DESCRIPTION:Krisenintervention und Notfallseelsorge in Mittelsachsen für den Altkreis Freiberg \n 
URL:https://www.hospiz-oederan.de/event/erfahrungsaustausch-mitglieder-notfallhilfe-freiberg-e-v/
LOCATION:Stationäres Hospiz Oederan\, Richard-Wagner-Straße 1\, Oederan\, 09569\, Germany
END:VEVENT
BEGIN:VEVENT
DTSTART;TZID=Europe/Berlin:20241225T180000
DTEND;TZID=Europe/Berlin:20241225T190000
DTSTAMP:20260424T085509
CREATED:20241127T185025Z
LAST-MODIFIED:20241127T185025Z
UID:4919-1735149600-1735153200@www.hospiz-oederan.de
SUMMARY:Klarinettenkonzert
DESCRIPTION:Cora Lantzsch spielt weihnachtliche Weisen
URL:https://www.hospiz-oederan.de/event/klarinettenkonzert/
LOCATION:Sachsen
ATTACH;FMTTYPE=image/avif:https://www.hospiz-oederan.de/wp-content/uploads/2024/11/weihnachtsmann-mit-melodiesymbolen-auf-regenbogenwelle_1308-64474.jpg.avif
END:VEVENT
END:VCALENDAR