BEGIN:VCALENDAR
VERSION:2.0
PRODID:-//Hospiz Oederan - ECPv6.15.20//NONSGML v1.0//EN
CALSCALE:GREGORIAN
METHOD:PUBLISH
X-ORIGINAL-URL:https://www.hospiz-oederan.de
X-WR-CALDESC:Veranstaltungen für Hospiz Oederan
REFRESH-INTERVAL;VALUE=DURATION:PT1H
X-Robots-Tag:noindex
X-PUBLISHED-TTL:PT1H
BEGIN:VTIMEZONE
TZID:Europe/Berlin
BEGIN:DAYLIGHT
TZOFFSETFROM:+0100
TZOFFSETTO:+0200
TZNAME:CEST
DTSTART:20250330T010000
END:DAYLIGHT
BEGIN:STANDARD
TZOFFSETFROM:+0200
TZOFFSETTO:+0100
TZNAME:CET
DTSTART:20251026T010000
END:STANDARD
BEGIN:DAYLIGHT
TZOFFSETFROM:+0100
TZOFFSETTO:+0200
TZNAME:CEST
DTSTART:20260329T010000
END:DAYLIGHT
BEGIN:STANDARD
TZOFFSETFROM:+0200
TZOFFSETTO:+0100
TZNAME:CET
DTSTART:20261025T010000
END:STANDARD
BEGIN:DAYLIGHT
TZOFFSETFROM:+0100
TZOFFSETTO:+0200
TZNAME:CEST
DTSTART:20270328T010000
END:DAYLIGHT
BEGIN:STANDARD
TZOFFSETFROM:+0200
TZOFFSETTO:+0100
TZNAME:CET
DTSTART:20271031T010000
END:STANDARD
END:VTIMEZONE
BEGIN:VEVENT
DTSTART;TZID=Europe/Berlin:20260830T100000
DTEND;TZID=Europe/Berlin:20260830T120000
DTSTAMP:20260423T221222
CREATED:20260206T131940Z
LAST-MODIFIED:20260206T133541Z
UID:6086-1788084000-1788091200@www.hospiz-oederan.de
SUMMARY:Die Parkinson-Erkrankung – verstehen\, behandeln\, begleiten
DESCRIPTION:Referent: Dr. Peter Themann \nDr. Peter Themann ist Senior-Chefarzt der Reha-Klinik Hetzdorf. In seiner langjährigen klinischen Tätigkeit widmet er sich insbesondere der neurologischen Rehabilitation und der Behandlung von Patientinnen und Patienten mit Bewegungsstörungen\, darunter die Parkinson-Erkrankung. Sein Schwerpunkt liegt in der ganzheitlichen rehabilitativen Betreuung mit dem Ziel\, Selbstständigkeit und Lebensqualität der Betroffenen nachhaltig zu fördern.
URL:https://www.hospiz-oederan.de/event/die-parkinson-erkrankung-verstehen-behandeln-begleiten/
LOCATION:Bürgersaal der Stadt Oederan\, Markt 7\, Oederan\, Sachsen\, 09569\, Germany
ATTACH;FMTTYPE=image/jpeg:https://www.hospiz-oederan.de/wp-content/uploads/2026/02/IMG_2083-200x300-1.jpg
END:VEVENT
END:VCALENDAR