BEGIN:VCALENDAR
VERSION:2.0
PRODID:-//Hospiz Oederan - ECPv6.15.20//NONSGML v1.0//EN
CALSCALE:GREGORIAN
METHOD:PUBLISH
X-ORIGINAL-URL:https://www.hospiz-oederan.de
X-WR-CALDESC:Veranstaltungen für Hospiz Oederan
REFRESH-INTERVAL;VALUE=DURATION:PT1H
X-Robots-Tag:noindex
X-PUBLISHED-TTL:PT1H
BEGIN:VTIMEZONE
TZID:Europe/Berlin
BEGIN:DAYLIGHT
TZOFFSETFROM:+0100
TZOFFSETTO:+0200
TZNAME:CEST
DTSTART:20250330T010000
END:DAYLIGHT
BEGIN:STANDARD
TZOFFSETFROM:+0200
TZOFFSETTO:+0100
TZNAME:CET
DTSTART:20251026T010000
END:STANDARD
BEGIN:DAYLIGHT
TZOFFSETFROM:+0100
TZOFFSETTO:+0200
TZNAME:CEST
DTSTART:20260329T010000
END:DAYLIGHT
BEGIN:STANDARD
TZOFFSETFROM:+0200
TZOFFSETTO:+0100
TZNAME:CET
DTSTART:20261025T010000
END:STANDARD
BEGIN:DAYLIGHT
TZOFFSETFROM:+0100
TZOFFSETTO:+0200
TZNAME:CEST
DTSTART:20270328T010000
END:DAYLIGHT
BEGIN:STANDARD
TZOFFSETFROM:+0200
TZOFFSETTO:+0100
TZNAME:CET
DTSTART:20271031T010000
END:STANDARD
END:VTIMEZONE
BEGIN:VEVENT
DTSTART;TZID=Europe/Berlin:20260606T090000
DTEND;TZID=Europe/Berlin:20260606T143000
DTSTAMP:20260423T223133
CREATED:20260423T132436Z
LAST-MODIFIED:20260423T132436Z
UID:6176-1780736400-1780756200@www.hospiz-oederan.de
SUMMARY:Weiterbildung "Spiritualität und Rituale" und "Verlust udn Trauer"
DESCRIPTION:Referent: Jan Frommhold \nTeilnahme für angemeldete Ehrenamtliche
URL:https://www.hospiz-oederan.de/event/weiterbildung-spiritualitaet-und-rituale-und-verlust-udn-trauer/
LOCATION:Im Rosenzimmer des stationären Hospizes\, Richard-Wagner-Straße 1\, Oederan\, Sachsen\, 09569\, Germany
END:VEVENT
END:VCALENDAR