BEGIN:VCALENDAR
VERSION:2.0
PRODID:-//Hospiz Oederan - ECPv6.15.20//NONSGML v1.0//EN
CALSCALE:GREGORIAN
METHOD:PUBLISH
X-ORIGINAL-URL:https://www.hospiz-oederan.de
X-WR-CALDESC:Veranstaltungen für Hospiz Oederan
REFRESH-INTERVAL;VALUE=DURATION:PT1H
X-Robots-Tag:noindex
X-PUBLISHED-TTL:PT1H
BEGIN:VTIMEZONE
TZID:Europe/Berlin
BEGIN:DAYLIGHT
TZOFFSETFROM:+0100
TZOFFSETTO:+0200
TZNAME:CEST
DTSTART:20250330T010000
END:DAYLIGHT
BEGIN:STANDARD
TZOFFSETFROM:+0200
TZOFFSETTO:+0100
TZNAME:CET
DTSTART:20251026T010000
END:STANDARD
BEGIN:DAYLIGHT
TZOFFSETFROM:+0100
TZOFFSETTO:+0200
TZNAME:CEST
DTSTART:20260329T010000
END:DAYLIGHT
BEGIN:STANDARD
TZOFFSETFROM:+0200
TZOFFSETTO:+0100
TZNAME:CET
DTSTART:20261025T010000
END:STANDARD
BEGIN:DAYLIGHT
TZOFFSETFROM:+0100
TZOFFSETTO:+0200
TZNAME:CEST
DTSTART:20270328T010000
END:DAYLIGHT
BEGIN:STANDARD
TZOFFSETFROM:+0200
TZOFFSETTO:+0100
TZNAME:CET
DTSTART:20271031T010000
END:STANDARD
END:VTIMEZONE
BEGIN:VEVENT
DTSTART;TZID=Europe/Berlin:20260317T153000
DTEND;TZID=Europe/Berlin:20260317T170000
DTSTAMP:20260423T190324
CREATED:20260206T130041Z
LAST-MODIFIED:20260206T130041Z
UID:6082-1773761400-1773766800@www.hospiz-oederan.de
SUMMARY:Vortrag - Digitale Vorsorge
DESCRIPTION:Was passiert mit meinen Online-Konten im Ernstfall? \nE-Mail\, Online-Banking\, soziale Netzwerke\, Internetshops – wir alle hinterlassen digitale Spuren. \nDoch wer hat Zugriff auf das Smartphone\, Zugang zum Online-Banking oder die vielen anderen Accounts im Internet\, wenn man selbst nicht mehr handeln kann? Viele gehen davon aus\, dass Ehepartner\, Eltern oder Kinder automatisch berechtigt sind. Das ist jedoch ein Irrtum. \nIn unserem Vortrag klären wir gemeinsam wichtige Fragen: \n\nWer darf auf digitale Konten zugreifen?\nWie sichere ich wichtige Zugänge für den Ernstfall?\nWas sollten Angehörige wissen?\nWie kann ich rechtzeitig vorsorgen?\n\nDazu haben wir einen Berater der Verbraucherzentrale Sachsen eingeladen\, der verständlich und praxisnah informiert und hilfreiche Tipps gibt. \nDie Teilnahme ist kostenlos. \nDigitale Vorsorge betrifft uns alle – unabhängig vom Alter. Informieren Sie sich rechtzeitig und kommen Sie gern mit Fragen.
URL:https://www.hospiz-oederan.de/event/vortrag-digitale-vorsorge/
LOCATION:Bürgersaal der Stadt Oederan\, Markt 7\, Oederan\, Sachsen\, 09569\, Germany
END:VEVENT
END:VCALENDAR