BEGIN:VCALENDAR
VERSION:2.0
PRODID:-//Hospiz Oederan - ECPv6.15.20//NONSGML v1.0//EN
CALSCALE:GREGORIAN
METHOD:PUBLISH
X-WR-CALNAME:Hospiz Oederan
X-ORIGINAL-URL:https://www.hospiz-oederan.de
X-WR-CALDESC:Veranstaltungen für Hospiz Oederan
REFRESH-INTERVAL;VALUE=DURATION:PT1H
X-Robots-Tag:noindex
X-PUBLISHED-TTL:PT1H
BEGIN:VTIMEZONE
TZID:Europe/Berlin
BEGIN:DAYLIGHT
TZOFFSETFROM:+0100
TZOFFSETTO:+0200
TZNAME:CEST
DTSTART:20250330T010000
END:DAYLIGHT
BEGIN:STANDARD
TZOFFSETFROM:+0200
TZOFFSETTO:+0100
TZNAME:CET
DTSTART:20251026T010000
END:STANDARD
BEGIN:DAYLIGHT
TZOFFSETFROM:+0100
TZOFFSETTO:+0200
TZNAME:CEST
DTSTART:20260329T010000
END:DAYLIGHT
BEGIN:STANDARD
TZOFFSETFROM:+0200
TZOFFSETTO:+0100
TZNAME:CET
DTSTART:20261025T010000
END:STANDARD
BEGIN:DAYLIGHT
TZOFFSETFROM:+0100
TZOFFSETTO:+0200
TZNAME:CEST
DTSTART:20270328T010000
END:DAYLIGHT
BEGIN:STANDARD
TZOFFSETFROM:+0200
TZOFFSETTO:+0100
TZNAME:CET
DTSTART:20271031T010000
END:STANDARD
END:VTIMEZONE
BEGIN:VEVENT
DTSTART;TZID=Europe/Berlin:20260131T150000
DTEND;TZID=Europe/Berlin:20260131T170000
DTSTAMP:20260423T200629
CREATED:20260102T125736Z
LAST-MODIFIED:20260102T125736Z
UID:6012-1769871600-1769878800@www.hospiz-oederan.de
SUMMARY:Gedenktag
DESCRIPTION:Nach Einladung für Angehörige unserer verstorbenen Bewohner. \nMusikalische Umrahmung durch unseren Hospizchor.
URL:https://www.hospiz-oederan.de/event/gedenktag-6/
LOCATION:Stationäres Hospiz Oederan\, Richard-Wagner-Straße 1\, Oederan\, 09569\, Germany
ATTACH;FMTTYPE=image/jpeg:https://www.hospiz-oederan.de/wp-content/uploads/2025/11/Brunnen_Kerzen3-scaled.jpg
END:VEVENT
END:VCALENDAR