BEGIN:VCALENDAR
VERSION:2.0
PRODID:-//Hospiz Oederan - ECPv6.15.20//NONSGML v1.0//EN
CALSCALE:GREGORIAN
METHOD:PUBLISH
X-ORIGINAL-URL:https://www.hospiz-oederan.de
X-WR-CALDESC:Veranstaltungen für Hospiz Oederan
REFRESH-INTERVAL;VALUE=DURATION:PT1H
X-Robots-Tag:noindex
X-PUBLISHED-TTL:PT1H
BEGIN:VTIMEZONE
TZID:Europe/Berlin
BEGIN:DAYLIGHT
TZOFFSETFROM:+0100
TZOFFSETTO:+0200
TZNAME:CEST
DTSTART:20240331T010000
END:DAYLIGHT
BEGIN:STANDARD
TZOFFSETFROM:+0200
TZOFFSETTO:+0100
TZNAME:CET
DTSTART:20241027T010000
END:STANDARD
BEGIN:DAYLIGHT
TZOFFSETFROM:+0100
TZOFFSETTO:+0200
TZNAME:CEST
DTSTART:20250330T010000
END:DAYLIGHT
BEGIN:STANDARD
TZOFFSETFROM:+0200
TZOFFSETTO:+0100
TZNAME:CET
DTSTART:20251026T010000
END:STANDARD
BEGIN:DAYLIGHT
TZOFFSETFROM:+0100
TZOFFSETTO:+0200
TZNAME:CEST
DTSTART:20260329T010000
END:DAYLIGHT
BEGIN:STANDARD
TZOFFSETFROM:+0200
TZOFFSETTO:+0100
TZNAME:CET
DTSTART:20261025T010000
END:STANDARD
END:VTIMEZONE
BEGIN:VEVENT
DTSTART;TZID=Europe/Berlin:20250603T153000
DTEND;TZID=Europe/Berlin:20250603T170000
DTSTAMP:20260424T035333
CREATED:20250404T133711Z
LAST-MODIFIED:20250404T133711Z
UID:5388-1748964600-1748970000@www.hospiz-oederan.de
SUMMARY:Ehrenamtskurs
DESCRIPTION:Thema: Demenz” \nReferenten Mandy Beyer und Heike Thomas
URL:https://www.hospiz-oederan.de/event/ehrenamtskurs-3/
LOCATION:Im Rosenzimmer des stationären Hospizes\, Richard-Wagner-Straße 1\, Oederan\, Sachsen\, 09569\, Germany
END:VEVENT
BEGIN:VEVENT
DTSTART;TZID=Europe/Berlin:20250603T180000
DTEND;TZID=Europe/Berlin:20250603T200000
DTSTAMP:20260424T035333
CREATED:20250103T124336Z
LAST-MODIFIED:20250103T124336Z
UID:5182-1748973600-1748980800@www.hospiz-oederan.de
SUMMARY:Mitgliederversammlung
DESCRIPTION:Teilnahme nur für Mitglieder der Vereins Hospiz und Palliativdienst Begleitende Hände e.V.
URL:https://www.hospiz-oederan.de/event/mitgliederversammlung/
LOCATION:Bürgersaal der Stadt Oederan\, Markt 7\, Oederan\, Sachsen\, 09569\, Germany
END:VEVENT
END:VCALENDAR